BEGIN:VCALENDAR
VERSION:2.0
PRODID:-//Delhi Public School (DPS) Srinagar - ECPv6.0.13.1//NONSGML v1.0//EN
CALSCALE:GREGORIAN
METHOD:PUBLISH
X-WR-CALNAME:Delhi Public School (DPS) Srinagar
X-ORIGINAL-URL:https://dpssrinagar.com
X-WR-CALDESC:Events for Delhi Public School (DPS) Srinagar
REFRESH-INTERVAL;VALUE=DURATION:PT1H
X-Robots-Tag:noindex
X-PUBLISHED-TTL:PT1H
BEGIN:VTIMEZONE
TZID:Asia/Kolkata
BEGIN:STANDARD
TZOFFSETFROM:+0530
TZOFFSETTO:+0530
TZNAME:IST
DTSTART:20190101T000000
END:STANDARD
END:VTIMEZONE
BEGIN:VEVENT
DTSTART;VALUE=DATE:20190318
DTEND;VALUE=DATE:20190319
DTSTAMP:20260424T221154
CREATED:20190319T080121Z
LAST-MODIFIED:20190328T042542Z
UID:49618-1552867200-1552953599@dpssrinagar.com
SUMMARY:Inter House Badminton- 2019 (U17 Boys and Girls)
DESCRIPTION:Day 04 (22 March 2019)\nInter House Badminton- 2019 (U17 Boys and Girls)\nMatches between: \n1. Maple House    vs  Poplar House\n2. Popular House  vs  Chinar House\n3.  Chinar House  vs  Deodar House\n4. Willow House  vs  Oak House \nSingles (Girls)\nWinner : Chinar House \nDoubles (Girls)\nWinner : Oak House \nSingles (Boys)\nWinner : Maple House \nDoubles (Boys)\nWinner : Deodar House \n\n\n\n			\n				\n						\n			\n								\n			\n		\n							\n			\n		\n				\n						\n			\n								\n			\n		\n							\n			\n		\n				\n						\n			\n								\n			\n		\n							\n			\n		\n				\n						\n			\n								\n			\n		\n							\n			\n		\n				\n						\n			\n								\n			\n		\n							\n			\n		\n				\n						\n			\n								\n			\n		\n							\n			\n		\n				\n						\n			\n								\n			\n		\n							\n			\n		\n				\n						\n			\n								\n			\n		\n							\n			\n		\n				\n						\n			\n								\n			\n		\n							\n			\n		\n				\n						\n			\n								\n			\n		\n							\n			\n		\n				\n						\n			\n								\n			\n		\n							\n			\n		\n				\n						\n			\n								\n			\n		\n							\n			\n		\n				\n						\n			\n								\n			\n		\n							\n			\n		\n				\n						\n			\n								\n			\n		\n							\n			\n		\n				\n						\n			\n								\n			\n		\n							\n			\n		\n				\n						\n			\n								\n			\n		\n							\n			\n		\n				\n						\n			\n								\n			\n		\n							\n			\n		\n				\n						\n			\n								\n			\n		\n							\n			\n		\n				\n						\n			\n								\n			\n		\n							\n			\n		\n				\n						\n			\n								\n			\n		\n							\n			\n		\n				\n						\n			\n								\n			\n		\n							\n			\n		\n				\n						\n			\n								\n			\n		\n							\n			\n		\n				\n						\n			\n								\n			\n		\n							\n			\n		\n				\n						\n			\n								\n			\n		\n							\n			\n		\n				\n						\n			\n								\n			\n		\n							\n			\n		\n				\n						\n			\n								\n			\n		\n							\n			\n		\n				\n						\n			\n								\n			\n		\n							\n			\n		\n				\n						\n			\n								\n			\n		\n							\n			\n		\n				\n						\n			\n								\n			\n		\n							\n			\n		\n				\n						\n			\n								\n			\n		\n							\n			\n		\n				\n						\n			\n								\n			\n		\n							\n			\n		\n				\n						\n			\n								\n			\n		\n							\n			\n		\n				\n						\n			\n								\n			\n		\n							\n			\n		\n				\n						\n			\n								\n			\n		\n							\n			\n		\n				\n						\n			\n								\n			\n		\n							\n			\n		\n				\n						\n			\n								\n			\n		\n							\n			\n		\n				\n						\n			\n								\n			\n		\n							\n			\n		\n				\n						\n			\n								\n			\n		\n							\n			\n		\n				\n						\n			\n								\n			\n		\n							\n			\n		\n				\n						\n			\n								\n			\n		\n							\n			\n		\n		\n		\n	\n\nDay 03 (21 March 2019)\nInter House Badminton- 2019 (U17 Boys and Girls)\nMatches between: \n1. Maple House  vs Chinar House\n2. Popular House vs Deodar House\n3.  Chinar House vs Oak House\n4. Willow House vs deodar \nSingles (Girls) \n1. Winner : Chinar House\n2. Winner : Poplar House \nDoubles (Girls) \n1.Winner : Oak House\n2. Winner : Willow House \nSingles (Boys) \n1. Winner : Maple House\n2. Winner : Poplar House \nDoubles (Boys) \n1. Winner : Chinar House\n2.  Winner : Deodar House \n\n\n\n			\n				\n						\n			\n								\n			\n		\n							\n			\n		\n				\n						\n			\n								\n			\n		\n							\n			\n		\n				\n						\n			\n								\n			\n		\n							\n			\n		\n				\n						\n			\n								\n			\n		\n							\n			\n		\n				\n						\n			\n								\n			\n		\n							\n			\n		\n				\n						\n			\n								\n			\n		\n							\n			\n		\n				\n						\n			\n								\n			\n		\n							\n			\n		\n				\n						\n			\n								\n			\n		\n							\n			\n		\n				\n						\n			\n								\n			\n		\n							\n			\n		\n				\n						\n			\n								\n			\n		\n							\n			\n		\n				\n						\n			\n								\n			\n		\n							\n			\n		\n				\n						\n			\n								\n			\n		\n							\n			\n		\n				\n						\n			\n								\n			\n		\n							\n			\n		\n				\n						\n			\n								\n			\n		\n							\n			\n		\n				\n						\n			\n								\n			\n		\n							\n			\n		\n				\n						\n			\n								\n			\n		\n							\n			\n		\n				\n						\n			\n								\n			\n		\n							\n			\n		\n		\n		\n	\n\nDay 02\nInter House Badminton- 2019 (U17 Boys and Girls)\nMatches between: \n1. Maple House and Oak House  (BOYS) \nSingles\nWinner : Maple House \nDoubles\nWinner : Maple House \n2. Maple House and Oak House  (GIRLS)  \nSingles\nWinner : Maple House \nDoubles\nWinner : Oak House \n\n\n\n			\n				\n						\n			\n								\n			\n		\n							\n			\n		\n				\n						\n			\n								\n			\n		\n							\n			\n		\n				\n						\n			\n								\n			\n		\n							\n			\n		\n				\n						\n			\n								\n			\n		\n							\n			\n		\n				\n						\n			\n								\n			\n		\n							\n			\n		\n				\n						\n			\n								\n			\n		\n							\n			\n		\n				\n						\n			\n								\n			\n		\n							\n			\n		\n				\n						\n			\n								\n			\n		\n							\n			\n		\n				\n						\n			\n								\n			\n		\n							\n			\n		\n				\n						\n			\n								\n			\n		\n							\n			\n		\n				\n						\n			\n								\n			\n		\n							\n			\n		\n				\n						\n			\n								\n			\n		\n							\n			\n		\n				\n						\n			\n								\n			\n		\n							\n			\n		\n		\n		\n	\n\nDay 01\nInter House Badminton- 2019 (U17 Boys and Girls)\nMatches between: \n1. Willow and Poplar House  (BOYS)\nSingles\nWinner : Poplar House \nDoubles\nWinner : Poplar House \n2.  Willow and Poplar House  (GIRLS) \nSingles\nWinner : Poplar House \nDoubles\nWinner : Willow House
URL:https://dpssrinagar.com/event/inter-house-badminton-2019-u17-boys-and-girls/
LOCATION:DPS Campus\, Athwajan\, Srinagar\, Jammu and Kashmir\, 190004\, India
END:VEVENT
END:VCALENDAR 