BEGIN:VCALENDAR
VERSION:2.0
PRODID:-//Delhi Public School (DPS) Srinagar - ECPv6.0.13.1//NONSGML v1.0//EN
CALSCALE:GREGORIAN
METHOD:PUBLISH
X-WR-CALNAME:Delhi Public School (DPS) Srinagar
X-ORIGINAL-URL:https://dpssrinagar.com
X-WR-CALDESC:Events for Delhi Public School (DPS) Srinagar
REFRESH-INTERVAL;VALUE=DURATION:PT1H
X-Robots-Tag:noindex
X-PUBLISHED-TTL:PT1H
BEGIN:VTIMEZONE
TZID:Asia/Kolkata
BEGIN:STANDARD
TZOFFSETFROM:+0530
TZOFFSETTO:+0530
TZNAME:IST
DTSTART:20190101T000000
END:STANDARD
END:VTIMEZONE
BEGIN:VEVENT
DTSTART;VALUE=DATE:20190328
DTEND;VALUE=DATE:20190329
DTSTAMP:20260424T221154
CREATED:20190331T150608Z
LAST-MODIFIED:20190403T061543Z
UID:50787-1553731200-1553817599@dpssrinagar.com
SUMMARY:Inter House Table Tennis U17 - 2019
DESCRIPTION:Day 03 (02 April 2019)\nFinal Matches: \nSingles (Girls) \n1.  Maple House  vs  Chinar House      \nWinner : Maple House \nDoubles (Girls) \n2. Deodar House  vs Chinar House    \nWinner : Maple House \nSingles (Boys)  \n3.  Willow  House  vs  Chinar House  \nWinner : Willow House \n Doubles (Boys) \n4. Willow  House  vs  Oak House\nWinner : Oak House \nDay 02 (30 March 2019)\nSemi Final Matches between: \n Singles (Girls) \n1.  Maple   House  vs Willow House      \nWinner : Maple House \n2. Chinar House vs Oak House           \nWinner : Chinar House \nDoubles (Girls) \n3. Maple House  vs Willow House      \nWinner : Maple House \n4. Deodar House vs Oak House       \nWinner : Deodar House \nSingles (Boys)  \n5.  Willow  House  vs  Poplar House  \nWinner: Willow House \n6. Chinar House vs Oak House          \nWinner : Chinar House \n Doubles (Boys) \n7. Willow  House  vs  Poplar House\nWinner : Willow House \n8. Chinar House vs Oak House\nWinner : Oak House \n\n\n\n			\n				\n						\n			\n								\n			\n		\n							\n			\n		\n				\n						\n			\n								\n			\n		\n							\n			\n		\n				\n						\n			\n								\n			\n		\n							\n			\n		\n				\n						\n			\n								\n			\n		\n							\n			\n		\n				\n						\n			\n								\n			\n		\n							\n			\n		\n				\n						\n			\n								\n			\n		\n							\n			\n		\n				\n						\n			\n								\n			\n		\n							\n			\n		\n				\n						\n			\n								\n			\n		\n							\n			\n		\n				\n						\n			\n								\n			\n		\n							\n			\n		\n		\n		\n	\n\nDay 01 (28 March 2019)\nMatches between: \n1.  Maple   House  vs  Poplar House\nSingles (Girls)\nWinner :   Maple House \nDoubles (Girls)\n2. Maple House  vs  Poplar House\nWinner : Maple House \n3. Maple   House  vs  Poplar House\nSingles (Boys)\nWinner: Poplar House \n4. Maple   House  vs  Poplar House\nDoubles (Boys)\nWinner : Poplar House
URL:https://dpssrinagar.com/event/inter-house-table-tennis-u17-2019/
LOCATION:DPS Campus\, Athwajan\, Srinagar\, Jammu and Kashmir\, 190004\, India
END:VEVENT
END:VCALENDAR 