BEGIN:VCALENDAR
VERSION:2.0
PRODID:-//Delhi Public School (DPS) Srinagar - ECPv6.0.13.1//NONSGML v1.0//EN
CALSCALE:GREGORIAN
METHOD:PUBLISH
X-ORIGINAL-URL:https://dpssrinagar.com
X-WR-CALDESC:Events for Delhi Public School (DPS) Srinagar
REFRESH-INTERVAL;VALUE=DURATION:PT1H
X-Robots-Tag:noindex
X-PUBLISHED-TTL:PT1H
BEGIN:VTIMEZONE
TZID:Asia/Kolkata
BEGIN:STANDARD
TZOFFSETFROM:+0530
TZOFFSETTO:+0530
TZNAME:IST
DTSTART:20230101T000000
END:STANDARD
END:VTIMEZONE
BEGIN:VEVENT
DTSTART;TZID=Asia/Kolkata:20230623T103000
DTEND;TZID=Asia/Kolkata:20230624T110000
DTSTAMP:20260419T212513
CREATED:20230623T062607Z
LAST-MODIFIED:20230626T070103Z
UID:70387-1687516200-1687604400@dpssrinagar.com
SUMMARY:Overnight Camp for Class 7th
DESCRIPTION:“The wilderness holds answers to questions we have not yet learned to ask.” \nDelhi public school\, Srinagar organized the first ever overnight camp for Grade 7 on 23 June\, 2023. The event received an overwhelming response with a total of 256 students opting to participate. The event started with the registration process\, followed by a prayer led by the teachers. The teachers also performed a welcome song to set the mood. \nThroughout the camp\, various activities were organized to keep the students engaged and entertained. One of the highlights was the photo frame making activity\, which was a hit among the students. They thoroughly enjoyed expressing their artistic skills. \nIn the evening\, there was a zumba dance session which had everybody on their feet dancing and swaying to the music and thoroughly enjoying themselves and it was heartening to see the teachers also enthusiastically participating in them. A swimming session was also organized\, allowing the students to cool down and have fun in the water. Music and dance sessions were again held\, where the students showcased their talents and grooved to their favourite tunes. Outdoor games were played\, promoting teamwork and friendly competition among the students. \nTo add to the camp experience\, a campfire was organized where the students gathered around and shared stories and laughter. Delicious meals\, snacks\, and refreshments were provided\, ensuring that the students were well-nourished and energized throughout the camp. \nThe next day started with a refreshing morning walk and a yoga session\, which created a calm and peaceful atmosphere. The students actively participated and found these activities interesting and rejuvenating. \nAt the end of the camp\, the students displayed a sense of responsibility by packing all their belongings neatly. Most of the parents were punctual in picking up their children\, ensuring a smooth and timely conclusion to the camp. \nOverall\, the overnight camp for Grade 7 students was a huge success\, with a great turnout and positive feedback from both students and parents. It provided a platform for students to learn\, bond\, and have a memorable experience together. Students took with them a lifetime of memories of an event to cherish forever. \n  \nDay 01\n  \nREGISTRATION\n\n\n\n			\n				\n						\n			\n								\n			\n		\n							\n			\n		\n				\n						\n			\n								\n			\n		\n							\n			\n		\n				\n						\n			\n								\n			\n		\n							\n			\n		\n				\n						\n			\n								\n			\n		\n							\n			\n		\n				\n						\n			\n								\n			\n		\n							\n			\n		\n				\n						\n			\n								\n			\n		\n							\n			\n		\n				\n						\n			\n								\n			\n		\n							\n			\n		\n				\n						\n			\n								\n			\n		\n							\n			\n		\n				\n						\n			\n								\n			\n		\n							\n			\n		\n				\n						\n			\n								\n			\n		\n							\n			\n		\n				\n						\n			\n								\n			\n		\n							\n			\n		\n				\n						\n			\n								\n			\n		\n							\n			\n		\n				\n						\n			\n								\n			\n		\n							\n			\n		\n				\n						\n			\n								\n			\n		\n							\n			\n		\n				\n						\n			\n								\n			\n		\n							\n			\n		\n				\n						\n			\n								\n			\n		\n							\n			\n		\n				\n						\n			\n								\n			\n		\n							\n			\n		\n				\n						\n			\n								\n			\n		\n							\n			\n		\n				\n						\n			\n								\n			\n		\n							\n			\n		\n				\n						\n			\n								\n			\n		\n							\n			\n		\n				\n						\n			\n								\n			\n		\n							\n			\n		\n				\n						\n			\n								\n			\n		\n							\n			\n		\n				\n						\n			\n								\n			\n		\n							\n			\n		\n				\n						\n			\n								\n			\n		\n							\n			\n		\n				\n						\n			\n								\n			\n		\n							\n			\n		\n		\n		\n	\n\nMORNING PRAYER AND REFRESHMENT\n\n\n\n			\n				\n						\n			\n								\n			\n		\n							\n			\n		\n				\n						\n			\n								\n			\n		\n							\n			\n		\n				\n						\n			\n								\n			\n		\n							\n			\n		\n				\n						\n			\n								\n			\n		\n							\n			\n		\n				\n						\n			\n								\n			\n		\n							\n			\n		\n				\n						\n			\n								\n			\n		\n							\n			\n		\n				\n						\n			\n								\n			\n		\n							\n			\n		\n				\n						\n			\n								\n			\n		\n							\n			\n		\n				\n						\n			\n								\n			\n		\n							\n			\n		\n				\n						\n			\n								\n			\n		\n							\n			\n		\n				\n						\n			\n								\n			\n		\n							\n			\n		\n				\n						\n			\n								\n			\n		\n							\n			\n		\n				\n						\n			\n								\n			\n		\n							\n			\n		\n				\n						\n			\n								\n			\n		\n							\n			\n		\n				\n						\n			\n								\n			\n		\n							\n			\n		\n				\n						\n			\n								\n			\n		\n							\n			\n		\n				\n						\n			\n								\n			\n		\n							\n			\n		\n				\n						\n			\n								\n			\n		\n							\n			\n		\n				\n						\n			\n								\n			\n		\n							\n			\n		\n				\n						\n			\n								\n			\n		\n							\n			\n		\n				\n						\n			\n								\n			\n		\n							\n			\n		\n				\n						\n			\n								\n			\n		\n							\n			\n		\n				\n						\n			\n								\n			\n		\n							\n			\n		\n		\n		\n	\n\nACTIVITY\n\n\n\n			\n				\n						\n			\n								\n			\n		\n							\n			\n		\n				\n						\n			\n								\n			\n		\n							\n			\n		\n				\n						\n			\n								\n			\n		\n							\n			\n		\n				\n						\n			\n								\n			\n		\n							\n			\n		\n				\n						\n			\n								\n			\n		\n							\n			\n		\n				\n						\n			\n								\n			\n		\n							\n			\n		\n				\n						\n			\n								\n			\n		\n							\n			\n		\n				\n						\n			\n								\n			\n		\n							\n			\n		\n				\n						\n			\n								\n			\n		\n							\n			\n		\n				\n						\n			\n								\n			\n		\n							\n			\n		\n				\n						\n			\n								\n			\n		\n							\n			\n		\n				\n						\n			\n								\n			\n		\n							\n			\n		\n				\n						\n			\n								\n			\n		\n							\n			\n		\n				\n						\n			\n								\n			\n		\n							\n			\n		\n				\n						\n			\n								\n			\n		\n							\n			\n		\n				\n						\n			\n								\n			\n		\n							\n			\n		\n				\n						\n			\n								\n			\n		\n							\n			\n		\n				\n						\n			\n								\n			\n		\n							\n			\n		\n				\n						\n			\n								\n			\n		\n							\n			\n		\n				\n						\n			\n								\n			\n		\n							\n			\n		\n				\n						\n			\n								\n			\n		\n							\n			\n		\n				\n						\n			\n								\n			\n		\n							\n			\n		\n				\n						\n			\n								\n			\n		\n							\n			\n		\n				\n						\n			\n								\n			\n		\n							\n			\n		\n				\n						\n			\n								\n			\n		\n							\n			\n		\n				\n						\n			\n								\n			\n		\n							\n			\n		\n				\n						\n			\n								\n			\n		\n							\n			\n		\n				\n						\n			\n								\n			\n		\n							\n			\n		\n				\n						\n			\n								\n			\n		\n							\n			\n		\n				\n						\n			\n								\n			\n		\n							\n			\n		\n				\n						\n			\n								\n			\n		\n							\n			\n		\n				\n						\n			\n								\n			\n		\n							\n			\n		\n				\n						\n			\n								\n			\n		\n							\n			\n		\n				\n						\n			\n								\n			\n		\n							\n			\n		\n				\n						\n			\n								\n			\n		\n							\n			\n		\n				\n						\n			\n								\n			\n		\n							\n			\n		\n				\n						\n			\n								\n			\n		\n							\n			\n		\n				\n						\n			\n								\n			\n		\n							\n			\n		\n				\n						\n			\n								\n			\n		\n							\n			\n		\n				\n						\n			\n								\n			\n		\n							\n			\n		\n				\n						\n			\n								\n			\n		\n							\n			\n		\n				\n						\n			\n								\n			\n		\n							\n			\n		\n				\n						\n			\n								\n			\n		\n							\n			\n		\n				\n						\n			\n								\n			\n		\n							\n			\n		\n				\n						\n			\n								\n			\n		\n							\n			\n		\n		\n		\n	\n\nLUNCH\n\n\n\n			\n				\n						\n			\n								\n			\n		\n							\n			\n		\n				\n						\n			\n								\n			\n		\n							\n			\n		\n				\n						\n			\n								\n			\n		\n							\n			\n		\n				\n						\n			\n								\n			\n		\n							\n			\n		\n				\n						\n			\n								\n			\n		\n							\n			\n		\n				\n						\n			\n								\n			\n		\n							\n			\n		\n				\n						\n			\n								\n			\n		\n							\n			\n		\n				\n						\n			\n								\n			\n		\n							\n			\n		\n				\n						\n			\n								\n			\n		\n							\n			\n		\n				\n						\n			\n								\n			\n		\n							\n			\n		\n				\n						\n			\n								\n			\n		\n							\n			\n		\n				\n						\n			\n								\n			\n		\n							\n			\n		\n				\n						\n			\n								\n			\n		\n							\n			\n		\n				\n						\n			\n								\n			\n		\n							\n			\n		\n				\n						\n			\n								\n			\n		\n							\n			\n		\n				\n						\n			\n								\n			\n		\n							\n			\n		\n				\n						\n			\n								\n			\n		\n							\n			\n		\n				\n						\n			\n								\n			\n		\n							\n			\n		\n				\n						\n			\n								\n			\n		\n							\n			\n		\n				\n						\n			\n								\n			\n		\n							\n			\n		\n				\n						\n			\n								\n			\n		\n							\n			\n		\n				\n						\n			\n								\n			\n		\n							\n			\n		\n				\n						\n			\n								\n			\n		\n							\n			\n		\n				\n						\n			\n								\n			\n		\n							\n			\n		\n				\n						\n			\n								\n			\n		\n							\n			\n		\n				\n						\n			\n								\n			\n		\n							\n			\n		\n				\n						\n			\n								\n			\n		\n							\n			\n		\n				\n						\n			\n								\n			\n		\n							\n			\n		\n				\n						\n			\n								\n			\n		\n							\n			\n		\n				\n						\n			\n								\n			\n		\n							\n			\n		\n				\n						\n			\n								\n			\n		\n							\n			\n		\n				\n						\n			\n								\n			\n		\n							\n			\n		\n				\n						\n			\n								\n			\n		\n							\n			\n		\n				\n						\n			\n								\n			\n		\n							\n			\n		\n				\n						\n			\n								\n			\n		\n							\n			\n		\n				\n						\n			\n								\n			\n		\n							\n			\n		\n		\n		\n	\n\nSNACK TIME\n\n\n\n			\n				\n						\n			\n								\n			\n		\n							\n			\n		\n				\n						\n			\n								\n			\n		\n							\n			\n		\n				\n						\n			\n								\n			\n		\n							\n			\n		\n				\n						\n			\n								\n			\n		\n							\n			\n		\n				\n						\n			\n								\n			\n		\n							\n			\n		\n				\n						\n			\n								\n			\n		\n							\n			\n		\n				\n						\n			\n								\n			\n		\n							\n			\n		\n				\n						\n			\n								\n			\n		\n							\n			\n		\n				\n						\n			\n								\n			\n		\n							\n			\n		\n				\n						\n			\n								\n			\n		\n							\n			\n		\n				\n						\n			\n								\n			\n		\n							\n			\n		\n				\n						\n			\n								\n			\n		\n							\n			\n		\n				\n						\n			\n								\n			\n		\n							\n			\n		\n				\n						\n			\n								\n			\n		\n							\n			\n		\n				\n						\n			\n								\n			\n		\n							\n			\n		\n				\n						\n			\n								\n			\n		\n							\n			\n		\n				\n						\n			\n								\n			\n		\n							\n			\n		\n				\n						\n			\n								\n			\n		\n							\n			\n		\n				\n						\n			\n								\n			\n		\n							\n			\n		\n				\n						\n			\n								\n			\n		\n							\n			\n		\n				\n						\n			\n								\n			\n		\n							\n			\n		\n				\n						\n			\n								\n			\n		\n							\n			\n		\n				\n						\n			\n								\n			\n		\n							\n			\n		\n				\n						\n			\n								\n			\n		\n							\n			\n		\n				\n						\n			\n								\n			\n		\n							\n			\n		\n				\n						\n			\n								\n			\n		\n							\n			\n		\n				\n						\n			\n								\n			\n		\n							\n			\n		\n				\n						\n			\n								\n			\n		\n							\n			\n		\n				\n						\n			\n								\n			\n		\n							\n			\n		\n				\n						\n			\n								\n			\n		\n							\n			\n		\n				\n						\n			\n								\n			\n		\n							\n			\n		\n				\n						\n			\n								\n			\n		\n							\n			\n		\n				\n						\n			\n								\n			\n		\n							\n			\n		\n				\n						\n			\n								\n			\n		\n							\n			\n		\n				\n						\n			\n								\n			\n		\n							\n			\n		\n				\n						\n			\n								\n			\n		\n							\n			\n		\n				\n						\n			\n								\n			\n		\n							\n			\n		\n				\n						\n			\n								\n			\n		\n							\n			\n		\n				\n						\n			\n								\n			\n		\n							\n			\n		\n				\n						\n			\n								\n			\n		\n							\n			\n		\n				\n						\n			\n								\n			\n		\n							\n			\n		\n				\n						\n			\n								\n			\n		\n							\n			\n		\n		\n		\n	\n\nDINNER\n\n\n\n			\n				\n						\n			\n								\n			\n		\n							\n			\n		\n				\n						\n			\n								\n			\n		\n							\n			\n		\n				\n						\n			\n								\n			\n		\n							\n			\n		\n				\n						\n			\n								\n			\n		\n							\n			\n		\n				\n						\n			\n								\n			\n		\n							\n			\n		\n				\n						\n			\n								\n			\n		\n							\n			\n		\n				\n						\n			\n								\n			\n		\n							\n			\n		\n				\n						\n			\n								\n			\n		\n							\n			\n		\n				\n						\n			\n								\n			\n		\n							\n			\n		\n				\n						\n			\n								\n			\n		\n							\n			\n		\n				\n						\n			\n								\n			\n		\n							\n			\n		\n				\n						\n			\n								\n			\n		\n							\n			\n		\n				\n						\n			\n								\n			\n		\n							\n			\n		\n				\n						\n			\n								\n			\n		\n							\n			\n		\n				\n						\n			\n								\n			\n		\n							\n			\n		\n				\n						\n			\n								\n			\n		\n							\n			\n		\n				\n						\n			\n								\n			\n		\n							\n			\n		\n				\n						\n			\n								\n			\n		\n							\n			\n		\n				\n						\n			\n								\n			\n		\n							\n			\n		\n				\n						\n			\n								\n			\n		\n							\n			\n		\n				\n						\n			\n								\n			\n		\n							\n			\n		\n				\n						\n			\n								\n			\n		\n							\n			\n		\n				\n						\n			\n								\n			\n		\n							\n			\n		\n				\n						\n			\n								\n			\n		\n							\n			\n		\n				\n						\n			\n								\n			\n		\n							\n			\n		\n				\n						\n			\n								\n			\n		\n							\n			\n		\n				\n						\n			\n								\n			\n		\n							\n			\n		\n				\n						\n			\n								\n			\n		\n							\n			\n		\n				\n						\n			\n								\n			\n		\n							\n			\n		\n				\n						\n			\n								\n			\n		\n							\n			\n		\n				\n						\n			\n								\n			\n		\n							\n			\n		\n				\n						\n			\n								\n			\n		\n							\n			\n		\n				\n						\n			\n								\n			\n		\n							\n			\n		\n				\n						\n			\n								\n			\n		\n							\n			\n		\n				\n						\n			\n								\n			\n		\n							\n			\n		\n				\n						\n			\n								\n			\n		\n							\n			\n		\n				\n						\n			\n								\n			\n		\n							\n			\n		\n				\n						\n			\n								\n			\n		\n							\n			\n		\n				\n						\n			\n								\n			\n		\n							\n			\n		\n				\n						\n			\n								\n			\n		\n							\n			\n		\n				\n						\n			\n								\n			\n		\n							\n			\n		\n				\n						\n			\n								\n			\n		\n							\n			\n		\n				\n						\n			\n								\n			\n		\n							\n			\n		\n				\n						\n			\n								\n			\n		\n							\n			\n		\n				\n						\n			\n								\n			\n		\n							\n			\n		\n				\n						\n			\n								\n			\n		\n							\n			\n		\n				\n						\n			\n								\n			\n		\n							\n			\n		\n				\n						\n			\n								\n			\n		\n							\n			\n		\n				\n						\n			\n								\n			\n		\n							\n			\n		\n				\n						\n			\n								\n			\n		\n							\n			\n		\n				\n						\n			\n								\n			\n		\n							\n			\n		\n				\n						\n			\n								\n			\n		\n							\n			\n		\n				\n						\n			\n								\n			\n		\n							\n			\n		\n				\n						\n			\n								\n			\n		\n							\n			\n		\n		\n		\n	\n\nCAMP FIRE\n\n\n\n			\n				\n						\n			\n								\n			\n		\n							\n			\n		\n				\n						\n			\n								\n			\n		\n							\n			\n		\n				\n						\n			\n								\n			\n		\n							\n			\n		\n				\n						\n			\n								\n			\n		\n							\n			\n		\n				\n						\n			\n								\n			\n		\n							\n			\n		\n				\n						\n			\n								\n			\n		\n							\n			\n		\n				\n						\n			\n								\n			\n		\n							\n			\n		\n				\n						\n			\n								\n			\n		\n							\n			\n		\n				\n						\n			\n								\n			\n		\n							\n			\n		\n				\n						\n			\n								\n			\n		\n							\n			\n		\n				\n						\n			\n								\n			\n		\n							\n			\n		\n				\n						\n			\n								\n			\n		\n							\n			\n		\n				\n						\n			\n								\n			\n		\n							\n			\n		\n				\n						\n			\n								\n			\n		\n							\n			\n		\n		\n		\n	\n\nDay 02\n  \nMORNING EXERCISE\n\n\n\n			\n				\n						\n			\n								\n			\n		\n							\n			\n		\n				\n						\n			\n								\n			\n		\n							\n			\n		\n				\n						\n			\n								\n			\n		\n							\n			\n		\n				\n						\n			\n								\n			\n		\n							\n			\n		\n				\n						\n			\n								\n			\n		\n							\n			\n		\n				\n						\n			\n								\n			\n		\n							\n			\n		\n				\n						\n			\n								\n			\n		\n							\n			\n		\n				\n						\n			\n								\n			\n		\n							\n			\n		\n				\n						\n			\n								\n			\n		\n							\n			\n		\n				\n						\n			\n								\n			\n		\n							\n			\n		\n				\n						\n			\n								\n			\n		\n							\n			\n		\n				\n						\n			\n								\n			\n		\n							\n			\n		\n				\n						\n			\n								\n			\n		\n							\n			\n		\n				\n						\n			\n								\n			\n		\n							\n			\n		\n				\n						\n			\n								\n			\n		\n							\n			\n		\n				\n						\n			\n								\n			\n		\n							\n			\n		\n				\n						\n			\n								\n			\n		\n							\n			\n		\n				\n						\n			\n								\n			\n		\n							\n			\n		\n				\n						\n			\n								\n			\n		\n							\n			\n		\n				\n						\n			\n								\n			\n		\n							\n			\n		\n				\n						\n			\n								\n			\n		\n							\n			\n		\n				\n						\n			\n								\n			\n		\n							\n			\n		\n				\n						\n			\n								\n			\n		\n							\n			\n		\n				\n						\n			\n								\n			\n		\n							\n			\n		\n		\n		\n	\n\nBREAKFAST
URL:https://dpssrinagar.com/event/overnight-camp-for-class-7th/
LOCATION:DPS Campus\, Athwajan\, Srinagar\, Jammu and Kashmir\, 190004\, India
END:VEVENT
END:VCALENDAR 