BEGIN:VCALENDAR
VERSION:2.0
PRODID:-//Delhi Public School (DPS) Srinagar - ECPv6.0.13.1//NONSGML v1.0//EN
CALSCALE:GREGORIAN
METHOD:PUBLISH
X-WR-CALNAME:Delhi Public School (DPS) Srinagar
X-ORIGINAL-URL:https://dpssrinagar.com
X-WR-CALDESC:Events for Delhi Public School (DPS) Srinagar
REFRESH-INTERVAL;VALUE=DURATION:PT1H
X-Robots-Tag:noindex
X-PUBLISHED-TTL:PT1H
BEGIN:VTIMEZONE
TZID:Asia/Kolkata
BEGIN:STANDARD
TZOFFSETFROM:+0530
TZOFFSETTO:+0530
TZNAME:IST
DTSTART:20190101T000000
END:STANDARD
END:VTIMEZONE
BEGIN:VEVENT
DTSTART;VALUE=DATE:20190514
DTEND;VALUE=DATE:20190515
DTSTAMP:20260420T040832
CREATED:20190522T044154Z
LAST-MODIFIED:20190522T050937Z
UID:54787-1557792000-1557878399@dpssrinagar.com
SUMMARY:Inter House Taekwondo
DESCRIPTION:Inter House Taekwondo competition concluded with the following results: \n1st Position : Chinar House  \n2nd Position : Poplar House  \n3rd Position : Maple House  \n4th Position : Willow House  \n5th Position : Deodar House  \n6th Position : Oak House
URL:https://dpssrinagar.com/event/inter-house-taekwondo/
LOCATION:DPS Campus\, Athwajan\, Srinagar\, Jammu and Kashmir\, 190004\, India
END:VEVENT
END:VCALENDAR 