BEGIN:VCALENDAR
VERSION:2.0
PRODID:-//Delhi Public School (DPS) Srinagar - ECPv6.0.13.1//NONSGML v1.0//EN
CALSCALE:GREGORIAN
METHOD:PUBLISH
X-ORIGINAL-URL:https://dpssrinagar.com
X-WR-CALDESC:Events for Delhi Public School (DPS) Srinagar
REFRESH-INTERVAL;VALUE=DURATION:PT1H
X-Robots-Tag:noindex
X-PUBLISHED-TTL:PT1H
BEGIN:VTIMEZONE
TZID:Asia/Kolkata
BEGIN:STANDARD
TZOFFSETFROM:+0530
TZOFFSETTO:+0530
TZNAME:IST
DTSTART:20190101T000000
END:STANDARD
END:VTIMEZONE
BEGIN:VEVENT
DTSTART;VALUE=DATE:20190712
DTEND;VALUE=DATE:20190713
DTSTAMP:20260419T234748
CREATED:20190712T073749Z
LAST-MODIFIED:20190713T064352Z
UID:57364-1562889600-1562975999@dpssrinagar.com
SUMMARY:Summer Camp 2019
DESCRIPTION:Day 01
URL:https://dpssrinagar.com/event/summer-camp-2019/
LOCATION:DPS Campus\, Athwajan\, Srinagar\, Jammu and Kashmir\, 190004\, India
END:VEVENT
END:VCALENDAR 